BEGIN:VCALENDAR
VERSION:2.0
PRODID:-//Hêtre authentique - ECPv6.15.20//NONSGML v1.0//EN
CALSCALE:GREGORIAN
METHOD:PUBLISH
X-WR-CALNAME:Hêtre authentique
X-ORIGINAL-URL:https://hetre-authentique.com
X-WR-CALDESC:Évènements pour Hêtre authentique
REFRESH-INTERVAL;VALUE=DURATION:PT1H
X-Robots-Tag:noindex
X-PUBLISHED-TTL:PT1H
BEGIN:VTIMEZONE
TZID:Europe/Paris
BEGIN:DAYLIGHT
TZOFFSETFROM:+0100
TZOFFSETTO:+0200
TZNAME:CEST
DTSTART:20230326T010000
END:DAYLIGHT
BEGIN:STANDARD
TZOFFSETFROM:+0200
TZOFFSETTO:+0100
TZNAME:CET
DTSTART:20231029T010000
END:STANDARD
BEGIN:DAYLIGHT
TZOFFSETFROM:+0100
TZOFFSETTO:+0200
TZNAME:CEST
DTSTART:20240331T010000
END:DAYLIGHT
BEGIN:STANDARD
TZOFFSETFROM:+0200
TZOFFSETTO:+0100
TZNAME:CET
DTSTART:20241027T010000
END:STANDARD
BEGIN:DAYLIGHT
TZOFFSETFROM:+0100
TZOFFSETTO:+0200
TZNAME:CEST
DTSTART:20250330T010000
END:DAYLIGHT
BEGIN:STANDARD
TZOFFSETFROM:+0200
TZOFFSETTO:+0100
TZNAME:CET
DTSTART:20251026T010000
END:STANDARD
END:VTIMEZONE
BEGIN:VEVENT
DTSTART;TZID=Europe/Paris:20240815T090000
DTEND;TZID=Europe/Paris:20240818T170000
DTSTAMP:20260420T173622
CREATED:20240624T183630Z
LAST-MODIFIED:20240624T183630Z
UID:796-1723712400-1724000400@hetre-authentique.com
SUMMARY:Séjour Rebondir en Itinérance
DESCRIPTION:Tu as entre 18 et 35 ans et tu cherches à remettre plus de sens dans ta vie?\n\nEn collaboration avec Graines de Soi\, nous te proposons un voyage initiatique dans les Ardennes. Quatre jours de randonnée avec sac à dos et logement sous tente.\nA l’aide de moments d’intériorité\, de Travail Qui Relie\, d’accompagnement individuel\, de partages en groupe\, d’actes symboliques et d’observation de ce que la nature nous souffle\, chaque participant pourra faire un chemin vers lui-même\, vers l’autre et vers le sacré.\n\nNotre itinérance sera ponctuée de rencontres avec des personnes et lieux inspirants en lien avec la transition.\n\nPlus de renseignements sur https://www.orientation-grainesdesoi.com/retraite-en-itin…\nLien pour s’inscrire: https://framaforms.org/inscription-rebondir-en-itinerance…\n\nMerci à la Fondation Benoit de nous financer afin de permettre de proposer ces tarifs avantageux:Tarif: en conscience entre 265 et 500 euros\n\nAmicie\, Virginie et Audrey\n 
URL:https://hetre-authentique.com/agendas/sejour-rebondir-en-itinerance/
LOCATION:Gare de Spa & de Vielsalm
CATEGORIES:séjour
ATTACH;FMTTYPE=image/png:https://hetre-authentique.com/wp-content/uploads/2024/06/2024-06-24-20_33_59-Rebondir-en-itinerance-4eme-edition-_-Facebook-—-Mozilla-Firefox.png
END:VEVENT
BEGIN:VEVENT
DTSTART;TZID=Europe/Paris:20240830T100000
DTEND;TZID=Europe/Paris:20240830T113000
DTSTAMP:20260420T173622
CREATED:20240624T182541Z
LAST-MODIFIED:20240624T182551Z
UID:792-1725012000-1725017400@hetre-authentique.com
SUMMARY:Les Vendredis ZEN - atelier portes ouvertes
DESCRIPTION:Les vendredis 09 août\, 23 août et 30 août 2024 auront lieu 1h30 de détente créative (13h30 – 15h00). \nCe sera l’occasion de découvrir quelques propositions ZEN de carnet créatif. Entre collage\, peinture\, écriture et autres fantaisies créatives\, je te propose un moment cocooning pour te relaxer\, prendre soin de toi\, te déconnecter de ton quotidien et passer un bon moment « chipotage » en toute simplicité… \nNul besoin d’être un artiste/créatif né pour participer à ces ateliers\, juste l’envie d’expérimenter et se laisser guider… Bref\, tout le monde est le bienvenu ! \nA l’occasion de ces portes ouvertes\, il n’y a pas de prix fixe mais une petite boîte « Don » pour y placer le montant de ton choix. \n📝 A prévoir: ton carnet A4 ou A5 à feuilles blanches unies de min 170 gr (si tu en possèdes un); aussi non\, je te fournirais des feuilles. \n🗺️ Accessibilité: Proche de la chasse\, le parking est généralement facile dans la rue. Accessible en transport en commun soit depuis la Chasse (tram 81\, bus 36 & 34) soit depuis l’arrêt VUB (tram 25 & 7 – à proximité de la gare d’Etterbeek) \n🧑‍🤝‍🧑 Nbre de participants: limiter à 9 personnes. Il est donc préférable de t’inscrire à l’avance (via le formulaire de droite)
URL:https://hetre-authentique.com/agendas/les-vendredis-zen-atelier-portes-ouvertes-6/
LOCATION:Parent-aise\, Rue Beckers 19\, Bruxelles\, 1040
CATEGORIES:carnet créatif
ATTACH;FMTTYPE=image/jpeg:https://hetre-authentique.com/wp-content/uploads/2024/05/estee-janssens-MUf7Ly04sOI-unsplash-scaled.jpg
END:VEVENT
END:VCALENDAR