BEGIN:VCALENDAR
VERSION:2.0
PRODID:-//Hêtre authentique - ECPv6.15.20//NONSGML v1.0//EN
CALSCALE:GREGORIAN
METHOD:PUBLISH
X-ORIGINAL-URL:https://hetre-authentique.com
X-WR-CALDESC:Évènements pour Hêtre authentique
REFRESH-INTERVAL;VALUE=DURATION:PT1H
X-Robots-Tag:noindex
X-PUBLISHED-TTL:PT1H
BEGIN:VTIMEZONE
TZID:Europe/Paris
BEGIN:DAYLIGHT
TZOFFSETFROM:+0100
TZOFFSETTO:+0200
TZNAME:CEST
DTSTART:20240331T010000
END:DAYLIGHT
BEGIN:STANDARD
TZOFFSETFROM:+0200
TZOFFSETTO:+0100
TZNAME:CET
DTSTART:20241027T010000
END:STANDARD
BEGIN:DAYLIGHT
TZOFFSETFROM:+0100
TZOFFSETTO:+0200
TZNAME:CEST
DTSTART:20250330T010000
END:DAYLIGHT
BEGIN:STANDARD
TZOFFSETFROM:+0200
TZOFFSETTO:+0100
TZNAME:CET
DTSTART:20251026T010000
END:STANDARD
BEGIN:DAYLIGHT
TZOFFSETFROM:+0100
TZOFFSETTO:+0200
TZNAME:CEST
DTSTART:20260329T010000
END:DAYLIGHT
BEGIN:STANDARD
TZOFFSETFROM:+0200
TZOFFSETTO:+0100
TZNAME:CET
DTSTART:20261025T010000
END:STANDARD
END:VTIMEZONE
BEGIN:VEVENT
DTSTART;TZID=Europe/Paris:20250214T100000
DTEND;TZID=Europe/Paris:20250214T130000
DTSTAMP:20260420T214611
CREATED:20241015T190307Z
LAST-MODIFIED:20241125T091543Z
UID:1044-1739527200-1739538000@hetre-authentique.com
SUMMARY:Ce 14 février... je m'aime moi-m'aime...
DESCRIPTION:La Saint-Valentin ne célèbre pas seulement l’amour des autres… mais aussi celui que vous vous portez ! Prenez un instant pour vous demander : “Est-ce que je m’offre suffisamment d’amour au quotidien ?” \nCet atelier de carnet créatif est une invitation à explorer l’amour de soi à travers le collage\, l’écriture intuitive et le dessin. Dans cette bulle de douceur\, donnez-vous ce temps… pour mieux vous connaître… poser un regard plus doux & bienveillant sur vous-même… et de vous offrir un peu plus d’amour\, tout en accueillant ce que vous avez besoin d’exprimer. \nAucun besoin d’être artiste\, l’essentiel est d’être à l’écoute de soi et de laisser émerger ce qui vous habite. Un beau voyage intérieur où la créativité devient un pont vers l’amour de soi. \n*** \n⌛Durée: de 10h00 à 13h00 (3h00) \n🗺️ Accessibilité: Proche de la chasse\, le parking est généralement facile dans la rue. Accessible en transport en commun soit depuis la Chasse (tram 81\, bus 36 & 34) soit depuis l’arrêt VUB (tram 25 & 7 – à proximité de la gare d’Etterbeek) \n📝 A prévoir: un carnet A4 ou A5 à feuilles blanches de min 170 gr (possibilité d’en acheter un sur place pour 5€) \n💰 Prix: 35€\, inclus accompagnement\, matériel créatif (hors carnet)\, boissons chaudes\, la disposition du lieu.\n \n🧑‍🤝‍🧑 Nbre de participants: limité à 10 personnes. \nINSCRIS-TOI sans plus attendre via le formulaire de droite
URL:https://hetre-authentique.com/agendas/ce-14-fevrier-je-maime-moi-maime/
LOCATION:Parent-aise\, Rue Beckers 19\, Bruxelles\, 1040
CATEGORIES:carnet créatif
ATTACH;FMTTYPE=image/jpeg:https://hetre-authentique.com/wp-content/uploads/2024/10/self-love-7200173_640.jpg
END:VEVENT
END:VCALENDAR