BEGIN:VCALENDAR
VERSION:2.0
PRODID:-//Hêtre authentique - ECPv6.15.20//NONSGML v1.0//EN
CALSCALE:GREGORIAN
METHOD:PUBLISH
X-ORIGINAL-URL:https://hetre-authentique.com
X-WR-CALDESC:Évènements pour Hêtre authentique
REFRESH-INTERVAL;VALUE=DURATION:PT1H
X-Robots-Tag:noindex
X-PUBLISHED-TTL:PT1H
BEGIN:VTIMEZONE
TZID:Europe/Paris
BEGIN:DAYLIGHT
TZOFFSETFROM:+0100
TZOFFSETTO:+0200
TZNAME:CEST
DTSTART:20240331T010000
END:DAYLIGHT
BEGIN:STANDARD
TZOFFSETFROM:+0200
TZOFFSETTO:+0100
TZNAME:CET
DTSTART:20241027T010000
END:STANDARD
BEGIN:DAYLIGHT
TZOFFSETFROM:+0100
TZOFFSETTO:+0200
TZNAME:CEST
DTSTART:20250330T010000
END:DAYLIGHT
BEGIN:STANDARD
TZOFFSETFROM:+0200
TZOFFSETTO:+0100
TZNAME:CET
DTSTART:20251026T010000
END:STANDARD
BEGIN:DAYLIGHT
TZOFFSETFROM:+0100
TZOFFSETTO:+0200
TZNAME:CEST
DTSTART:20260329T010000
END:DAYLIGHT
BEGIN:STANDARD
TZOFFSETFROM:+0200
TZOFFSETTO:+0100
TZNAME:CET
DTSTART:20261025T010000
END:STANDARD
END:VTIMEZONE
BEGIN:VEVENT
DTSTART;TZID=Europe/Paris:20250702T190000
DTEND;TZID=Europe/Paris:20250706T170000
DTSTAMP:20260420T233702
CREATED:20250514T114810Z
LAST-MODIFIED:20250515T170148Z
UID:1207-1751482800-1751821200@hetre-authentique.com
SUMMARY:Séjour "Rebondir en itinérance" - 5ème édition
DESCRIPTION:Et si vous preniez quelques jours pour vous recentrer\, vous reconnecter à l’essentiel\, et faire le point sur vos projets de vie? \nPendant 4 jours\, nous vous proposons une marche en itinérance alliant connaissance de soi\, coaching\, nature et transition écologique. Un moment loin des écrans\, pour souffler\, réfléchir et repartir avec plus de clarté. \nDu mercredi 2 (soir) au 6 juillet 2025 (fin d’après midi) – Belgique (Fagnes\, entre Spa et Vielsalm) \n**Au programme ** \n\n4 jours de marche (env. 20 km/jour) avec un sac à dos contenant l’essentiel\nmoments guidés de réflexion et de partage\ncoaching & introspection\ntemps d’écriture et d’observation\noutils de connaissance de soi\nrencontres avec des acteurs engagés dans des initiatives écologiques et solidaires\nmoments symboliques et connexion à la nature\n\n** Objectifs **\n\ntraverser une période de transition ou de questionnements\nmieux se connaître (par le biais de l’ennéagramme\, les tempéraments\, …)\nse challenger et se ressourcer\nclarifier ses projets ou amorcer un changement\nprendre du recul pour sortir de votre routine\n\n**Encadrement professionnel ** \n– Audrey Lonhienne\, coach en orientation et aventurière dans l’âme \n– Amicie de Quatrebarbes\, accompagnatrice psycho-corporelle et sylvothérapeute \n**Pour qui ?** \nJeunes adultes (18-35 ans) prêts à sortir de leur zone de confort\, ouverts aux rencontres\, avec une condition physique normale. \n**Tarifs ** \nGrâce au soutien de la Fondation Benoît\, nous proposons une participation libre et en conscience entre 265 et 400 euros\, selon vos moyens. Cela comprend: \n\naccompagnement avec des professionnelles qualifiées pour vous soutenir dans votre cheminement\npréparation et logistique du séjour\nnourriture de qualité avec repas chauds préparés avec amour par notre cuisinière\nhébergement en tente dans des lieux choisis pour leur authenticité\nun cadre sécurisé et bienveillant\,\n\nUn acompte de 70 € à verser sur le compte de l’asbl Graines de Soi\, valide l’inscription (BE64 75120767 8252) \nNous proposons aussi 2 places à 180 euros pour les personnes en situation précaire. En contribuant davantage\, vous permettez concrètement à d’autres de vivre cette expérience unique. Merci! \nUne liste complète du matériel nécessaire vous sera fournie dès votre inscription. \nPlus d’info & inscription: https://www.orientation-grainesdesoi.com/retraite-en-itin%C3%A9rance
URL:https://hetre-authentique.com/agendas/sejour-rebondir-en-itinerance-5eme-edition/
LOCATION:Gare de Spa & de Vielsalm
CATEGORIES:baindeforet,séjour,sylvothérapie
ATTACH;FMTTYPE=image/png:https://hetre-authentique.com/wp-content/uploads/2025/05/ggg1.png
END:VEVENT
BEGIN:VEVENT
DTSTART;TZID=Europe/Paris:20250713T100000
DTEND;TZID=Europe/Paris:20250713T130000
DTSTAMP:20260420T233702
CREATED:20250408T100843Z
LAST-MODIFIED:20250429T152945Z
UID:1171-1752400800-1752411600@hetre-authentique.com
SUMMARY:Bain de forêt - dimanche 13 juillet
DESCRIPTION:Offrez-vous une pause… pour ralentir… respirer… ressentir… éveiller vos sens \nLe bain de forêt est une immersion douce et consciente dans la nature\, qui vous invite à vous reconnecter à vous-même\, aux autres et à l’environnement qui vous entoure. \nVous serez guider pas à pas à travers des propositions simples et accessibles (respiration\, marche lente\, éveil des sens…) pour vous permetttre d’apaiser le mental\, de libérer les tensions et de revenir à l’essentiel. \nUne immersion douce et vivifiante en forêt pour se laisser envelopper par la quiétude des arbres\, tout en retrouvant son équilibre… \n🗓️ Infos pratiques\n\n\nGuide : Amicie \n\n\nTarif : 25 €  Paiement à effectuer sur le compte BE44 7360 3676 1145Communication : date du bain de forêt – nom \n\n\nPublic : activité réservée aux adultes (+18 ans) \n\n\nInscriptions : jusqu’à 48h avant l’événement\, selon les places disponibles \n\n\nInfos pratiques : lieu exact et recommandations envoyés par e-mail une semaine avant le bain \n\n\nPour en savoir plus sur les bienfaits de la sylvothérapie : hetre-authentique.com/sylvotherapie \n 
URL:https://hetre-authentique.com/agendas/bain-de-foret-dimanche-13-juillet/
LOCATION:Forêt de Soignes (La Hulpe)
CATEGORIES:baindeforet,sylvothérapie
ATTACH;FMTTYPE=image/png:https://hetre-authentique.com/wp-content/uploads/2025/04/flyers-bain-de-foret-2025-min.png
END:VEVENT
END:VCALENDAR