BEGIN:VCALENDAR
VERSION:2.0
PRODID:-//Hêtre authentique - ECPv6.15.20//NONSGML v1.0//EN
CALSCALE:GREGORIAN
METHOD:PUBLISH
X-ORIGINAL-URL:https://hetre-authentique.com
X-WR-CALDESC:Évènements pour Hêtre authentique
REFRESH-INTERVAL;VALUE=DURATION:PT1H
X-Robots-Tag:noindex
X-PUBLISHED-TTL:PT1H
BEGIN:VTIMEZONE
TZID:Europe/Paris
BEGIN:DAYLIGHT
TZOFFSETFROM:+0100
TZOFFSETTO:+0200
TZNAME:CEST
DTSTART:20230326T010000
END:DAYLIGHT
BEGIN:STANDARD
TZOFFSETFROM:+0200
TZOFFSETTO:+0100
TZNAME:CET
DTSTART:20231029T010000
END:STANDARD
BEGIN:DAYLIGHT
TZOFFSETFROM:+0100
TZOFFSETTO:+0200
TZNAME:CEST
DTSTART:20240331T010000
END:DAYLIGHT
BEGIN:STANDARD
TZOFFSETFROM:+0200
TZOFFSETTO:+0100
TZNAME:CET
DTSTART:20241027T010000
END:STANDARD
BEGIN:DAYLIGHT
TZOFFSETFROM:+0100
TZOFFSETTO:+0200
TZNAME:CEST
DTSTART:20250330T010000
END:DAYLIGHT
BEGIN:STANDARD
TZOFFSETFROM:+0200
TZOFFSETTO:+0100
TZNAME:CET
DTSTART:20251026T010000
END:STANDARD
END:VTIMEZONE
BEGIN:VEVENT
DTSTART;TZID=Europe/Paris:20241213T100000
DTEND;TZID=Europe/Paris:20241213T130000
DTSTAMP:20260420T214525
CREATED:20240624T135630Z
LAST-MODIFIED:20241015T200148Z
UID:760-1734084000-1734094800@hetre-authentique.com
SUMMARY:Interpréter mes rêves
DESCRIPTION:Grâce au carnet créatif\, je t’invite à explorer le message de tes rêves et ainsi comprendre ce que ton inconscient te transmet.. \nFreud appelait l’interprétation des rêves « la voie royale » vers la connaissance de l’inconscient… Et Harry Stroeken ajoute: le rêve peut apporter une profondeur qui ne peut être obtenue autrement. Le rêve a quelque chose de plus\, dévoile souvent plus\, exprime parfois un conflit de manière plus directe et plus imagée. Il peut exprimer des choses que le rêveur lui-même ignore encore. Les rêves aident à avancer : ils ne peuvent mentir. \n📝 A prévoir: un carnet A4 ou A5 à feuilles blanches de min 170 gr (possibilité d’en acheter un sur place pour 5€) \n🗺️ Accessibilité: Proche de la chasse\, le parking est généralement facile dans la rue. Accessible en transport en commun soit depuis la Chasse (tram 81\, bus 36 & 34) soit depuis l’arrêt VUB (tram 25 & 7 – à proximité de la gare d’Etterbeek) \n💰 Prix: 40€\, inclus accompagnement\, matériel créatif\, boissons chaudes\, la disposition du lieu \nINSCRIS-TOI sans plus attendre via le formulaire de droite
URL:https://hetre-authentique.com/agendas/interpreter-mes-reves/
LOCATION:Parent-aise\, Rue Beckers 19\, Bruxelles\, 1040
CATEGORIES:carnet créatif
ATTACH;FMTTYPE=image/jpeg:https://hetre-authentique.com/wp-content/uploads/2024/05/andreas-wagner-t6t2-gXKxXM-unsplash-scaled.jpg
END:VEVENT
END:VCALENDAR