BEGIN:VCALENDAR
VERSION:2.0
PRODID:-//Hêtre authentique - ECPv6.15.20//NONSGML v1.0//EN
CALSCALE:GREGORIAN
METHOD:PUBLISH
X-ORIGINAL-URL:https://hetre-authentique.com
X-WR-CALDESC:Évènements pour Hêtre authentique
REFRESH-INTERVAL;VALUE=DURATION:PT1H
X-Robots-Tag:noindex
X-PUBLISHED-TTL:PT1H
BEGIN:VTIMEZONE
TZID:Europe/Paris
BEGIN:DAYLIGHT
TZOFFSETFROM:+0100
TZOFFSETTO:+0200
TZNAME:CEST
DTSTART:20240331T010000
END:DAYLIGHT
BEGIN:STANDARD
TZOFFSETFROM:+0200
TZOFFSETTO:+0100
TZNAME:CET
DTSTART:20241027T010000
END:STANDARD
BEGIN:DAYLIGHT
TZOFFSETFROM:+0100
TZOFFSETTO:+0200
TZNAME:CEST
DTSTART:20250330T010000
END:DAYLIGHT
BEGIN:STANDARD
TZOFFSETFROM:+0200
TZOFFSETTO:+0100
TZNAME:CET
DTSTART:20251026T010000
END:STANDARD
BEGIN:DAYLIGHT
TZOFFSETFROM:+0100
TZOFFSETTO:+0200
TZNAME:CEST
DTSTART:20260329T010000
END:DAYLIGHT
BEGIN:STANDARD
TZOFFSETFROM:+0200
TZOFFSETTO:+0100
TZNAME:CET
DTSTART:20261025T010000
END:STANDARD
END:VTIMEZONE
BEGIN:VEVENT
DTSTART;TZID=Europe/Paris:20250131T100000
DTEND;TZID=Europe/Paris:20250131T124500
DTSTAMP:20260420T224415
CREATED:20241015T154204Z
LAST-MODIFIED:20241125T090123Z
UID:1035-1738317600-1738327500@hetre-authentique.com
SUMMARY:Inquiétude et souci (cycle des émotions)
DESCRIPTION:Être maman\, c’est se faire plus souvent de souci et avoir un mental qui tourne en boucle… \n\nNous sommes inquiètes pour nos enfants: est-il habillé suffisamment chaudement? mange-t’il assez? son alimentation est-elle assez équilibrée? est-il suffisamment stimulé? inscrit aux bonnes activités? respecte-t’on son rythme? etc.\nNous pouvons aussi être anxieuse de ne pas faire les choses « parfaitement »\, de faire les mauvais choix\, de ne pas être assez présente\, de ne pas être à la hauteur\, etc.\n\nTous ces « ils faut »\, « je dois » au quotidien génèrent progressivement une surcharge mentale et un stress excessif\, au point d’en devenir mentalement épuisant! \nBref\, arrête de « tourner fou » en alimentant ton mental\, viens décharger tes inquiétudes sur papier pour retrouver plus de sérénité au quotidien… Zéro culpabilité\, zéro jugement\, zéro blabla… \n*** \nCet atelier fait partie d’un cycle de 5 ateliers sur les émotions (souci/rumination; tristesse; peur; colère/frustration;  joie/émerveillement)\, réparti sur 5 mois. Inscription possible “à la carte” ou pour le cycle complet.\n \n🗺️ Accessibilité: Proche de la chasse\, le parking est généralement facile dans la rue. Accessible en transport en commun soit depuis la Chasse (tram 81\, bus 36 & 34) soit depuis l’arrêt VUB (tram 25 & 7 – à proximité de la gare d’Etterbeek) \n📝 A prévoir: un carnet A4 ou A5 à feuilles blanches de min 170 gr (possibilité d’en acheter un sur place pour 5€) \n💰 Prix: 35€ pour l’atelier ou 160€ pour le cycle de 5 (soit 32€/session)\, inclus accompagnement\, matériel créatif\, boissons chaudes\, la disposition du lieu.\n \n🧑‍🤝‍🧑 Nbre de participants: limité à 10 personnes. \nINSCRIS-TOI sans plus attendre via le formulaire de droite
URL:https://hetre-authentique.com/agendas/inquietude-et-souci-cycle-des-emotions/
LOCATION:Parent-aise\, Rue Beckers 19\, Bruxelles\, 1040
CATEGORIES:carnet créatif
ATTACH;FMTTYPE=image/png:https://hetre-authentique.com/wp-content/uploads/2024/10/mood-7529905_640.png
END:VEVENT
END:VCALENDAR