BEGIN:VCALENDAR
VERSION:2.0
PRODID:-//Hêtre authentique - ECPv6.15.20//NONSGML v1.0//EN
CALSCALE:GREGORIAN
METHOD:PUBLISH
X-WR-CALNAME:Hêtre authentique
X-ORIGINAL-URL:https://hetre-authentique.com
X-WR-CALDESC:Évènements pour Hêtre authentique
REFRESH-INTERVAL;VALUE=DURATION:PT1H
X-Robots-Tag:noindex
X-PUBLISHED-TTL:PT1H
BEGIN:VTIMEZONE
TZID:Europe/Paris
BEGIN:DAYLIGHT
TZOFFSETFROM:+0100
TZOFFSETTO:+0200
TZNAME:CEST
DTSTART:20240331T010000
END:DAYLIGHT
BEGIN:STANDARD
TZOFFSETFROM:+0200
TZOFFSETTO:+0100
TZNAME:CET
DTSTART:20241027T010000
END:STANDARD
BEGIN:DAYLIGHT
TZOFFSETFROM:+0100
TZOFFSETTO:+0200
TZNAME:CEST
DTSTART:20250330T010000
END:DAYLIGHT
BEGIN:STANDARD
TZOFFSETFROM:+0200
TZOFFSETTO:+0100
TZNAME:CET
DTSTART:20251026T010000
END:STANDARD
BEGIN:DAYLIGHT
TZOFFSETFROM:+0100
TZOFFSETTO:+0200
TZNAME:CEST
DTSTART:20260329T010000
END:DAYLIGHT
BEGIN:STANDARD
TZOFFSETFROM:+0200
TZOFFSETTO:+0100
TZNAME:CET
DTSTART:20261025T010000
END:STANDARD
END:VTIMEZONE
BEGIN:VEVENT
DTSTART;TZID=Europe/Paris:20250711T100000
DTEND;TZID=Europe/Paris:20250711T130000
DTSTAMP:20260421T014612
CREATED:20250408T100654Z
LAST-MODIFIED:20250429T152920Z
UID:1169-1752228000-1752238800@hetre-authentique.com
SUMMARY:Bain de forêt - vendredi 11 juillet
DESCRIPTION:s une pause… pour ralentir… respirer… ressentir… éveiller vos sens \nLe bain de forêt est une immersion douce et consciente dans la nature\, qui vous invite à vous reconnecter à vous-même\, aux autres et à l’environnement qui vous entoure. \nVous serez guider pas à pas à travers des propositions simples et accessibles (respiration\, marche lente\, éveil des sens…) pour vous permetttre d’apaiser le mental\, de libérer les tensions et de revenir à l’essentiel. \nUne immersion douce et vivifiante en forêt pour se laisser envelopper par la quiétude des arbres\, tout en retrouvant son équilibre… \n🗓️ Infos pratiques\n\n\nGuide : Amicie \n\n\nTarif : 25 €  Paiement à effectuer sur le compte BE44 7360 3676 1145Communication : date du bain de forêt – nom \n\n\nPublic : activité réservée aux adultes (+18 ans) \n\n\nInscriptions : jusqu’à 48h avant l’événement\, selon les places disponibles \n\n\nInfos pratiques : lieu exact et recommandations envoyés par e-mail une semaine avant le bain \n\n\nPour en savoir plus sur les bienfaits de la sylvothérapie : hetre-authentique.com/sylvotherapie
URL:https://hetre-authentique.com/agendas/bain-de-foret-vendredi-11-juin/
LOCATION:Forêt de Soignes (La Hulpe)
CATEGORIES:baindeforet,sylvothérapie
ATTACH;FMTTYPE=image/png:https://hetre-authentique.com/wp-content/uploads/2025/04/flyers-bain-de-foret-2025-min.png
END:VEVENT
END:VCALENDAR