BEGIN:VCALENDAR
VERSION:2.0
PRODID:-//Hêtre authentique - ECPv6.15.20//NONSGML v1.0//EN
CALSCALE:GREGORIAN
METHOD:PUBLISH
X-WR-CALNAME:Hêtre authentique
X-ORIGINAL-URL:https://hetre-authentique.com
X-WR-CALDESC:Évènements pour Hêtre authentique
REFRESH-INTERVAL;VALUE=DURATION:PT1H
X-Robots-Tag:noindex
X-PUBLISHED-TTL:PT1H
BEGIN:VTIMEZONE
TZID:Europe/Paris
BEGIN:DAYLIGHT
TZOFFSETFROM:+0100
TZOFFSETTO:+0200
TZNAME:CEST
DTSTART:20240331T010000
END:DAYLIGHT
BEGIN:STANDARD
TZOFFSETFROM:+0200
TZOFFSETTO:+0100
TZNAME:CET
DTSTART:20241027T010000
END:STANDARD
BEGIN:DAYLIGHT
TZOFFSETFROM:+0100
TZOFFSETTO:+0200
TZNAME:CEST
DTSTART:20250330T010000
END:DAYLIGHT
BEGIN:STANDARD
TZOFFSETFROM:+0200
TZOFFSETTO:+0100
TZNAME:CET
DTSTART:20251026T010000
END:STANDARD
BEGIN:DAYLIGHT
TZOFFSETFROM:+0100
TZOFFSETTO:+0200
TZNAME:CEST
DTSTART:20260329T010000
END:DAYLIGHT
BEGIN:STANDARD
TZOFFSETFROM:+0200
TZOFFSETTO:+0100
TZNAME:CET
DTSTART:20261025T010000
END:STANDARD
END:VTIMEZONE
BEGIN:VEVENT
DTSTART;TZID=Europe/Paris:20250314T100000
DTEND;TZID=Europe/Paris:20250314T124500
DTSTAMP:20260420T230738
CREATED:20240624T191442Z
LAST-MODIFIED:20241125T084453Z
UID:800-1741946400-1741956300@hetre-authentique.com
SUMMARY:Mom Rage ou crise de colère maternelle (cycle émotions)
DESCRIPTION:Un sujet\, certes\, bien tabou mais que de nombreuses mamans expérimentent (aucune culpabilité ou honte à avoir…)…  Si cela peut te rassurer\, la crise de colère n’est jamais préméditée puisque c’est la goutte de trop qui nous fait perdre tout contrôle de nos émotions et de nos réactions… Elle nous fait péter les plombs\, souvent\, sans que l’on sache exactement le pourquoi du comment… \nNotre société a tendance à diaboliser la colère (et encore plus pour les femmes qui se « doivent » d’être douces et empathiques « par  nature »). Elle est pourtant une émotion tout aussi légitime que la tristesse\, la peur\, la joie… qui a pour but de nous informer qu’un besoin est inassouvi. \nViens libérer ta colère\, ta frustration\, ton sentiment d’impuissance sur papier à coup de crayon\, peinture\, pastel et autres… Défoulement et un retour vers la sérénité garanti… Zéro jugement\, zéro culpabilité et zéro blabla… \n*** \nCet atelier fait partie d’un cycle de 5 ateliers sur les émotions (souci/rumination; tristesse; peur; colère/frustration;  joie/émerveillement)\, réparti sur 5 mois. Inscription possible “à la carte” ou pour le cycle complet.\n \n🗺️ Accessibilité: Proche de la chasse\, le parking est généralement facile dans la rue. Accessible en transport en commun soit depuis la Chasse (tram 81\, bus 36 & 34) soit depuis l’arrêt VUB (tram 25 & 7 – à proximité de la gare d’Etterbeek) \n📝 A prévoir: un carnet A4 ou A5 à feuilles blanches de min 170 gr (possibilité d’en acheter un sur place pour 5€) \n💰 Prix: 35€ pour l’atelier ou 160€ pour le cycle de 5 (soit 32€/session)\, inclus accompagnement\, matériel créatif\, boissons chaudes\, la disposition du lieu.\n \n🧑‍🤝‍🧑 Nbre de participants: limité à 10 personnes. INSCRIS-TOI sans plus attendre via le formulaire de droite \nINSCRIS-TOI sans plus attendre via le formulaire de droite \n 
URL:https://hetre-authentique.com/agendas/mom-rage-ou-crise-de-colere-maternelle/
LOCATION:Parent-aise\, Rue Beckers 19\, Bruxelles\, 1040
CATEGORIES:carnet créatif
ATTACH;FMTTYPE=image/png:https://hetre-authentique.com/wp-content/uploads/2024/06/2024-06-24-21_03_48-Photo-gratuite-de-agressif-alternatif-apparence-arriere-plan-vert-arrogant-.png
END:VEVENT
END:VCALENDAR